BEGIN:VCALENDAR
VERSION:2.0
PRODID:-//wp-events-plugin.com//7.2.3.1//EN
TZID:America/New_York
X-WR-TIMEZONE:America/New_York
BEGIN:VEVENT
UID:97@sexcguild.com
DTSTART;TZID=America/New_York:20250115T200000
DTEND;TZID=America/New_York:20250115T230000
DTSTAMP:20250112T004441Z
URL:https://sexcguild.com/events/regular-scheduled-raid-day-est-edt-2025-0
 1-15/
SUMMARY:Regular Scheduled Raid Day (EST/EDT)
DESCRIPTION:Regularly scheduled weekday raid 8pm to 11pm (EST/EDT).
ATTACH;FMTTYPE=image/jpeg:https://i0.wp.com/sexcguild.com/wp-content/uploa
 ds/2025/01/everquest2_raid_event_poster_original-1.png?fit=1024%2C1024&ssl
 =1
CATEGORIES:EverQuest 2 Weekday Raid Event
END:VEVENT
BEGIN:VTIMEZONE
TZID:America/New_York
X-LIC-LOCATION:America/New_York
BEGIN:STANDARD
DTSTART:20241103T010000
TZOFFSETFROM:-0400
TZOFFSETTO:-0500
TZNAME:EST
END:STANDARD
END:VTIMEZONE
END:VCALENDAR